BEGIN:VCALENDAR
PRODID:-//Microsoft Corporation//Outlook MIMEDIR//EN
VERSION:2.0
METHOD:PUBLISH
BEGIN:VEVENT
DTSTART:20260422T133000
DTEND:20260422T143000
DESCRIPTION:REVISED
LOCATION:Conf Room 07/08
SUMMARY:Technical Advisory Committee
CATEGORIES:MEETING
END:VEVENT
END:VCALENDAR
